BEGIN:VCALENDAR
VERSION:2.0
PRODID:-//European Council for Small Business and Entrepreneurship - ECPv6.15.15//NONSGML v1.0//EN
CALSCALE:GREGORIAN
METHOD:PUBLISH
X-WR-CALNAME:European Council for Small Business and Entrepreneurship
X-ORIGINAL-URL:https://ecsb.org
X-WR-CALDESC:Events for European Council for Small Business and Entrepreneurship
REFRESH-INTERVAL;VALUE=DURATION:PT1H
X-Robots-Tag:noindex
X-PUBLISHED-TTL:PT1H
BEGIN:VTIMEZONE
TZID:UTC
BEGIN:STANDARD
TZOFFSETFROM:+0000
TZOFFSETTO:+0000
TZNAME:UTC
DTSTART:20240101T000000
END:STANDARD
END:VTIMEZONE
BEGIN:VEVENT
DTSTART;VALUE=DATE:20250327
DTEND;VALUE=DATE:20250329
DTSTAMP:20260419T144259
CREATED:20250203T144508Z
LAST-MODIFIED:20250203T144508Z
UID:15302-1743033600-1743206399@ecsb.org
SUMMARY:2nd InsEnt SIG-ECSB Workshop
DESCRIPTION:We are excited to welcome you to the 2nd InsEnt SIG-ECSB Workshop to share insights\, explore potential research\, and foster collaborations to advance our understanding of the interplay between institutions and their influence on entrepreneurial activity\, societal development\, and economic performance. \nParticipation in the 2nd InsEnt SIG-ECSB Workshop is free of charge. However\, registration is mandatory and can be completed via this link (Google Form). \nThe deadline for registration is February 20\, 2025. Please note that spots are limited\, so early registration is encouraged! \nWe encourage participants to submit a brief research idea for feedback and discussion during the workshop. This is not mandatory but is highly recommended\, as it offers a unique opportunity to receive valuable insights\, suggestions\, and support from fellow attendees. In the registration form\, please provide the following details: Title\, Objective\, Preliminary Theoretical Framework\, Preliminary Methodology\, and Potential Results. These contributions will help structure the ‘Research Spotlight’ and ‘Table Talk’ sessions and facilitate constructive dialogue among participants. \nSee the programme and practical details HERE (pdf).
URL:https://ecsb.org/event/2nd-insent-sig-ecsb-workshop/
LOCATION:Naples\, Naples\, Italy
CATEGORIES:ECSB Event,SIG event
ATTACH;FMTTYPE=image/png:https://ecsb.org/wp-content/uploads/2025/02/2nd-InsEnt-SIG-Workshop.png
END:VEVENT
END:VCALENDAR