BEGIN:VCALENDAR
VERSION:2.0
PRODID:-//European Council for Small Business and Entrepreneurship - ECPv6.15.15//NONSGML v1.0//EN
CALSCALE:GREGORIAN
METHOD:PUBLISH
X-ORIGINAL-URL:https://ecsb.org
X-WR-CALDESC:Events for European Council for Small Business and Entrepreneurship
REFRESH-INTERVAL;VALUE=DURATION:PT1H
X-Robots-Tag:noindex
X-PUBLISHED-TTL:PT1H
BEGIN:VTIMEZONE
TZID:Europe/Paris
BEGIN:DAYLIGHT
TZOFFSETFROM:+0100
TZOFFSETTO:+0200
TZNAME:CEST
DTSTART:20250330T010000
END:DAYLIGHT
BEGIN:STANDARD
TZOFFSETFROM:+0200
TZOFFSETTO:+0100
TZNAME:CET
DTSTART:20251026T010000
END:STANDARD
BEGIN:DAYLIGHT
TZOFFSETFROM:+0100
TZOFFSETTO:+0200
TZNAME:CEST
DTSTART:20260329T010000
END:DAYLIGHT
BEGIN:STANDARD
TZOFFSETFROM:+0200
TZOFFSETTO:+0100
TZNAME:CET
DTSTART:20261025T010000
END:STANDARD
BEGIN:DAYLIGHT
TZOFFSETFROM:+0100
TZOFFSETTO:+0200
TZNAME:CEST
DTSTART:20270328T010000
END:DAYLIGHT
BEGIN:STANDARD
TZOFFSETFROM:+0200
TZOFFSETTO:+0100
TZNAME:CET
DTSTART:20271031T010000
END:STANDARD
END:VTIMEZONE
BEGIN:VEVENT
DTSTART;TZID=Europe/Paris:20260218T100000
DTEND;TZID=Europe/Paris:20260218T140000
DTSTAMP:20260422T203328
CREATED:20251128T091453Z
LAST-MODIFIED:20251215T134720Z
UID:15729-1771408800-1771423200@ecsb.org
SUMMARY:ECSB Conference Goes Online
DESCRIPTION:Presenting one’s research and receiving feedback on it is important for advancing in research. The ECSB organizes annually two conferences – the RENT Research in Entrepreneurship and Small Business together with EIASM and the 3E – ECSB Entrepreneurship Education Conference. However\, we understand that attending conferences in person is not always an option for all. For this reason\, ECSB organises ECSB Conference Goes Online on 18 February 2026 between 10am and 2pm (CET). \nWe are honoured to present Professor Kim Klyver from University of Southern Denmark as the Keynote Speaker. Professor Kim Klyver will give a keynote entitled: “Rethinking entrepreneurship in causally entangled crises: Towards a poly-crisis perspective”. \nPresenting at the ECSB Conference Goes Online will be free-of-charge for existing ECSB members. We will accept approximately 12–16 presentations for this event. In the selection a priority will be given to existing ECSB members and to authors who have not presented their paper at the previous 3E or RENT conferences (3E 2025 or RENT 2025). All ECSB members are welcome to join the ECSB Conference Goes Online as participants. The event is free-of-charge but registration will be required. \nHow to join ECSB Conference Goes Online? \nSubmit your abstract (900 words) to ecsbonline@utu.fi by 9th December. In the e-mail include also 1-2 sentences why you are interested in presenting at this online conference.All abstracts will be reviewed. Feedback and decisions will be sent by early January at the latest. There is no full paper submission for the event but each presenter will be appointed a discussant to kick-off the discussion in the session. \nAccepted presenters need to register for the conference and agree to present their paper on 18th February in a slot between 10am and 2pm pm (CET). \nFurther questions? \nPlease contact the ECSB Secretariat (info@ecsb.org) or the conference organising committee (ecsbonline@utu.fi).
URL:https://ecsb.org/event/ecsb-conference-goes-online-2/
LOCATION:Online
CATEGORIES:ECSB Event
ATTACH;FMTTYPE=image/png:https://ecsb.org/wp-content/uploads/2025/11/Online-conference.png
END:VEVENT
END:VCALENDAR