BEGIN:VCALENDAR
VERSION:2.0
PRODID:-//European Council for Small Business and Entrepreneurship - ECPv6.15.15//NONSGML v1.0//EN
CALSCALE:GREGORIAN
METHOD:PUBLISH
X-WR-CALNAME:European Council for Small Business and Entrepreneurship
X-ORIGINAL-URL:https://ecsb.org
X-WR-CALDESC:Events for European Council for Small Business and Entrepreneurship
REFRESH-INTERVAL;VALUE=DURATION:PT1H
X-Robots-Tag:noindex
X-PUBLISHED-TTL:PT1H
BEGIN:VTIMEZONE
TZID:Europe/Paris
BEGIN:DAYLIGHT
TZOFFSETFROM:+0100
TZOFFSETTO:+0200
TZNAME:CEST
DTSTART:20250330T010000
END:DAYLIGHT
BEGIN:STANDARD
TZOFFSETFROM:+0200
TZOFFSETTO:+0100
TZNAME:CET
DTSTART:20251026T010000
END:STANDARD
BEGIN:DAYLIGHT
TZOFFSETFROM:+0100
TZOFFSETTO:+0200
TZNAME:CEST
DTSTART:20260329T010000
END:DAYLIGHT
BEGIN:STANDARD
TZOFFSETFROM:+0200
TZOFFSETTO:+0100
TZNAME:CET
DTSTART:20261025T010000
END:STANDARD
BEGIN:DAYLIGHT
TZOFFSETFROM:+0100
TZOFFSETTO:+0200
TZNAME:CEST
DTSTART:20270328T010000
END:DAYLIGHT
BEGIN:STANDARD
TZOFFSETFROM:+0200
TZOFFSETTO:+0100
TZNAME:CET
DTSTART:20271031T010000
END:STANDARD
END:VTIMEZONE
BEGIN:VEVENT
DTSTART;TZID=Europe/Paris:20260211T150000
DTEND;TZID=Europe/Paris:20260211T160000
DTSTAMP:20260423T030551
CREATED:20260204T103642Z
LAST-MODIFIED:20260204T104101Z
UID:15907-1770822000-1770825600@ecsb.org
SUMMARY:ECSB Webinar: AI in Entrepreneurship Education with Basel Hammoda
DESCRIPTION:Basel Hammoda (TalTech) will present some reflections on his article “Entrepreneurship Education at the Dawn of Generative Artificial Intelligence” published in Entrepreneurship Education and Pedagogy in 2023. Since then\, the field and the technology has developed even further. He will also highlight a few AI related activities followed by Q&A and discussion. \nAbout Basel: https://taltech.ee/en/contacts/entrepreneurship-and-international-business-unit/basel-osama-sayed-ahmed-hammoda \nThe article: https://doi.org/10.1177/25151274231198799 \nPlease note! The event is open to ECSB members\, registration is required. \nRegister HERE \nIf you do not have a valid membership\, please join at https://ecsb.org/join-ecsb/.
URL:https://ecsb.org/event/ecsb-webinar-ai-in-entrepreneurship-education-with-basel-hammoda/
LOCATION:Online
CATEGORIES:ECSB Event,Webinar
ATTACH;FMTTYPE=image/png:https://ecsb.org/wp-content/uploads/2026/02/ECSB-Webinar-with-Basel-Hammoda-110226.png
END:VEVENT
END:VCALENDAR