BEGIN:VCALENDAR
VERSION:2.0
PRODID:-//European Council for Small Business and Entrepreneurship - ECPv6.15.15//NONSGML v1.0//EN
CALSCALE:GREGORIAN
METHOD:PUBLISH
X-WR-CALNAME:European Council for Small Business and Entrepreneurship
X-ORIGINAL-URL:https://ecsb.org
X-WR-CALDESC:Events for European Council for Small Business and Entrepreneurship
REFRESH-INTERVAL;VALUE=DURATION:PT1H
X-Robots-Tag:noindex
X-PUBLISHED-TTL:PT1H
BEGIN:VTIMEZONE
TZID:Europe/Helsinki
BEGIN:DAYLIGHT
TZOFFSETFROM:+0200
TZOFFSETTO:+0300
TZNAME:EEST
DTSTART:20250330T010000
END:DAYLIGHT
BEGIN:STANDARD
TZOFFSETFROM:+0300
TZOFFSETTO:+0200
TZNAME:EET
DTSTART:20251026T010000
END:STANDARD
BEGIN:DAYLIGHT
TZOFFSETFROM:+0200
TZOFFSETTO:+0300
TZNAME:EEST
DTSTART:20260329T010000
END:DAYLIGHT
BEGIN:STANDARD
TZOFFSETFROM:+0300
TZOFFSETTO:+0200
TZNAME:EET
DTSTART:20261025T010000
END:STANDARD
BEGIN:DAYLIGHT
TZOFFSETFROM:+0200
TZOFFSETTO:+0300
TZNAME:EEST
DTSTART:20270328T010000
END:DAYLIGHT
BEGIN:STANDARD
TZOFFSETFROM:+0300
TZOFFSETTO:+0200
TZNAME:EET
DTSTART:20271031T010000
END:STANDARD
END:VTIMEZONE
BEGIN:VEVENT
DTSTART;TZID=Europe/Helsinki:20260422T140000
DTEND;TZID=Europe/Helsinki:20260422T163000
DTSTAMP:20260421T214321
CREATED:20260320T130111Z
LAST-MODIFIED:20260320T130111Z
UID:16007-1776866400-1776875400@ecsb.org
SUMMARY:5th Annual RENT Abstract Writing Workshop
DESCRIPTION:This interactive workshop taking place online on Wednesday 22 April 2026 at 14:00-16:30 CEST offers support on writing an abstract to RENT Conference to be organised in Antwerp on 18-20 November 2026. \nAbout this event\nDo you want to submit to RENT in Antwerp this year? And have you… \n\nalready planned to submit\, but need some feedback (especially if it is one of the first times that you submit to the RENT)?\nconsidered a submission\, but are not sure whether your work is a good fit for the RENT?\na first draft or sketch of your submission and want to further work on it with your peers?\n\nIf any of these conditions apply to you\, join us for this year’s Abstract Writing Workshop! Together\, we will meet on Wednesday 22 April 2026 at 14:00-16:30 CEST online via Zoom and first\, get some tips from experienced ECSB members to improve the chances of our submission. While this provides a good point to get started\, the majority of this workshop will be spent writing the abstract\, getting and giving feedback and jointly reflecting our writing process with support from experienced advisors. \nWith this interactive workshop\, we aim to contribute to high-quality submissions of extended abstracts for the RENT and\, from an individual participant’s perspective\, we will get some writing done. This workshop entails: \n\nExpert’s advice on abstract writing for the RENT\nWorking individually on your writing\nReflecting together in small groups\nGiving and receiving feedback from experienced advisors\nDiscuss challenges with experts and colleagues\n\nThis means that this is an actual workshop in which you will actually work on your own abstracts. To get the most out of this\, please prepare a draft version of your abstract beforehand. This can be a rough sketch in bullet points\, but bring along a version that you can further work on. \nSee the RENT 2026 Conference website for more info:\nhttps://rent-conference.org/\nhttps://rent-conference.org/submission/submission-deadline-instructions \nOrganizers\nThis workshop is organized as a joint initiative from several ECSB country vice presidents\, represented by: \n\nSimon Schmidt (ECSB country VP for Germany)\nVerena Meyer (Germany)\nRenata Osowska (ECSB country VP for UK)\nPekka Stenholm (Finland)\n\nParticipation\nParticipation is free\, but a registration is required by 15 April 2026. The registered participants will receive a link to a brief survey\, providing us with some information to ensure efficient group work\, and a Zoom link to join the meeting. \nRegister HERE. \nContact person\nVerena Meyer (verena.meyer(at)leuphana.de) \nPS. RENT submission deadline is May 15\, 2026.
URL:https://ecsb.org/event/5th-annual-rent-abstract-writing-workshop/
LOCATION:Online
CATEGORIES:ECSB Event
ATTACH;FMTTYPE=image/png:https://ecsb.org/wp-content/uploads/2026/03/5th-Annual-RENT-Abstract-Writing-Workshop.png
END:VEVENT
END:VCALENDAR