BEGIN:VCALENDAR
VERSION:2.0
PRODID:-//European Council for Small Business and Entrepreneurship - ECPv6.15.15//NONSGML v1.0//EN
CALSCALE:GREGORIAN
METHOD:PUBLISH
X-WR-CALNAME:European Council for Small Business and Entrepreneurship
X-ORIGINAL-URL:https://ecsb.org
X-WR-CALDESC:Events for European Council for Small Business and Entrepreneurship
REFRESH-INTERVAL;VALUE=DURATION:PT1H
X-Robots-Tag:noindex
X-PUBLISHED-TTL:PT1H
BEGIN:VTIMEZONE
TZID:Europe/Helsinki
BEGIN:DAYLIGHT
TZOFFSETFROM:+0200
TZOFFSETTO:+0300
TZNAME:EEST
DTSTART:20220327T010000
END:DAYLIGHT
BEGIN:STANDARD
TZOFFSETFROM:+0300
TZOFFSETTO:+0200
TZNAME:EET
DTSTART:20221030T010000
END:STANDARD
BEGIN:DAYLIGHT
TZOFFSETFROM:+0200
TZOFFSETTO:+0300
TZNAME:EEST
DTSTART:20230326T010000
END:DAYLIGHT
BEGIN:STANDARD
TZOFFSETFROM:+0300
TZOFFSETTO:+0200
TZNAME:EET
DTSTART:20231029T010000
END:STANDARD
BEGIN:DAYLIGHT
TZOFFSETFROM:+0200
TZOFFSETTO:+0300
TZNAME:EEST
DTSTART:20240331T010000
END:DAYLIGHT
BEGIN:STANDARD
TZOFFSETFROM:+0300
TZOFFSETTO:+0200
TZNAME:EET
DTSTART:20241027T010000
END:STANDARD
END:VTIMEZONE
BEGIN:VEVENT
DTSTART;TZID=Europe/Helsinki:20230418T140000
DTEND;TZID=Europe/Helsinki:20230418T163000
DTSTAMP:20260424T112615
CREATED:20230309T161525Z
LAST-MODIFIED:20230404T152008Z
UID:13448-1681826400-1681835400@ecsb.org
SUMMARY:2nd Annual RENT Abstract Writing Workshop
DESCRIPTION:Do you want to submit to RENT in Gdansk this year? And have you… \n\nalready planned to submit\, but need some feedback (especially if it is one of the first times that you submit to the RENT)?\nconsidered a submission\, but are not sure whether your work is a good fit for the RENT?\nhave a first draft or sketch of your submission and want to further work on it with your peers?\n\nIf any of these conditions apply to you\, join us for this year’s Abstract Writing Workshop! Together\, we will meet online via Zoom and first\, get some tips from experienced ECSB members to improve the chances of our submission. While this provides a good point to get started\, the majority of this workshop will be spent writing the abstract\, getting and giving feedback and jointly reflecting our writing process with support from experienced advisors. \nWith this interactive workshop\, we aim to contribute to high-quality submissions of extended abstracts for the RENT and\, from an individual participant’s perspective\, we will actually get (most) of the writing done. This workshop entails: \n\nExpert’s advice on abstract writing for the RENT\nWorking individually on your writing\nReflecting together in small groups\nGiving and receiving feedback from experienced advisors\nDiscuss challenges with experts and colleagues\n\nThis means that this is an actual workshop in which you will actually work on your own abstracts. To get the most out of this\, please prepare a draft version of your abstract beforehand. This can be a rough sketch in bullet points\, but bring along a version that you can further work on. \nhttp://www.rent-research.org/conference-tracks-2023 \nhttp://www.rent-research.org/SUBMISSION-DEADLINE2023 \nLet’s get the abstract writing done together! \n  \nOrganizers\nThis workshop is organized as a joint initiative from several ECSB country vice presidents\, represented by: \n\nVerena Meyer (ECSB country VP for Germany)\nRenata Osowska (ECSB country VP for UK)\nJarmila Šebestová (ECSB country VP for Czech Republic)\nPekka Stenholm (ECSB country VP for Finland)\n\n\nParticipation\nParticipation is free\, but a registration is required by 11 April 2023. The registered participants will receive a link to a brief survey\, providing us with some information to ensure efficient group work\, and a Zoom link to join the meeting. \nContact person\nVerena Meyer (verena.meyer(at)leuphana.de)
URL:https://ecsb.org/event/2nd-annual-rent-abstract-writing-workshop/
LOCATION:Online
CATEGORIES:ECSB Event,PDW
ATTACH;FMTTYPE=image/png:https://ecsb.org/wp-content/uploads/2023/03/RENT-Abstract-Writing-Workshop-180423_800x450px.png
END:VEVENT
END:VCALENDAR