BEGIN:VCALENDAR
VERSION:2.0
PRODID:-//European Council for Small Business and Entrepreneurship - ECPv6.15.15//NONSGML v1.0//EN
CALSCALE:GREGORIAN
METHOD:PUBLISH
X-WR-CALNAME:European Council for Small Business and Entrepreneurship
X-ORIGINAL-URL:https://ecsb.org
X-WR-CALDESC:Events for European Council for Small Business and Entrepreneurship
REFRESH-INTERVAL;VALUE=DURATION:PT1H
X-Robots-Tag:noindex
X-PUBLISHED-TTL:PT1H
BEGIN:VTIMEZONE
TZID:Europe/Helsinki
BEGIN:DAYLIGHT
TZOFFSETFROM:+0200
TZOFFSETTO:+0300
TZNAME:EEST
DTSTART:20250330T010000
END:DAYLIGHT
BEGIN:STANDARD
TZOFFSETFROM:+0300
TZOFFSETTO:+0200
TZNAME:EET
DTSTART:20251026T010000
END:STANDARD
BEGIN:DAYLIGHT
TZOFFSETFROM:+0200
TZOFFSETTO:+0300
TZNAME:EEST
DTSTART:20260329T010000
END:DAYLIGHT
BEGIN:STANDARD
TZOFFSETFROM:+0300
TZOFFSETTO:+0200
TZNAME:EET
DTSTART:20261025T010000
END:STANDARD
BEGIN:DAYLIGHT
TZOFFSETFROM:+0200
TZOFFSETTO:+0300
TZNAME:EEST
DTSTART:20270328T010000
END:DAYLIGHT
BEGIN:STANDARD
TZOFFSETFROM:+0300
TZOFFSETTO:+0200
TZNAME:EET
DTSTART:20271031T010000
END:STANDARD
END:VTIMEZONE
BEGIN:VTIMEZONE
TZID:UTC
BEGIN:STANDARD
TZOFFSETFROM:+0000
TZOFFSETTO:+0000
TZNAME:UTC
DTSTART:20250101T000000
END:STANDARD
END:VTIMEZONE
BEGIN:VEVENT
DTSTART;TZID=Europe/Helsinki:20260429T150000
DTEND;TZID=Europe/Helsinki:20260429T154500
DTSTAMP:20260424T034449
CREATED:20260204T110011Z
LAST-MODIFIED:20260204T110011Z
UID:15917-1777474800-1777477500@ecsb.org
SUMMARY:ECSB Webinar: Celebrating 40th Anniversary of RENT: Insights from RENT Best Paper Winners – Janice Byrne
DESCRIPTION:This is a short webinar (45 minutes including Q&A and discussion) as part of the webinars with previous RENT award winners. In addition to taking a trip down memory lane and highlighting the 40th Anniversary of RENT\, it is primarily an opportunity for younger scholars to see examples of how people work with developing their papers and their careers. \nJanice Byrne (Ivey Business School\, Western University) won Post-Doctoral Writing Workshop Award 2014–2015 with the paper “Passing the Marshall’s Baton: A Narrative Analysis of Gender in Family Business Succession”\, and the presentation will be along the lines of: What was the paper about\, What happened to the paper (did it get published in the same/another version)\, What happened to her afterwards (What is she researching now). \nLearn more about Janice \nParticipation: This is a free webinar open to all\, but registration is required. \nRegister HERE
URL:https://ecsb.org/event/ecsb-webinar-celebrating-40th-anniversary-of-rent-insights-from-rent-best-paper-winners-janice-byrne/
LOCATION:Online
CATEGORIES:ECSB Event,Webinar
ATTACH;FMTTYPE=image/png:https://ecsb.org/wp-content/uploads/2026/02/ECSB-Webinar-290426_Janice-Byrne.png
END:VEVENT
BEGIN:VEVENT
DTSTART;TZID=Europe/Helsinki:20260506T150000
DTEND;TZID=Europe/Helsinki:20260506T154500
DTSTAMP:20260424T034449
CREATED:20260204T110234Z
LAST-MODIFIED:20260204T110234Z
UID:15919-1778079600-1778082300@ecsb.org
SUMMARY:ECSB Webinar: Celebrating 40th Anniversary of RENT: Insights from RENT Best Paper Winners – Katrin Smolka
DESCRIPTION:This is a short webinar (45 minutes including Q&A and discussion) as part of the webinars with previous RENT award winners. In addition to taking a trip down memory lane and highlighting the 40th Anniversary of RENT\, it is primarily an opportunity for younger scholars to see examples of how people work with developing their papers and their careers. \nKatrin Smolka (Warwick Business School\, the University of Warwick) won Post-Doctoral Paper Development Workshop Award 2019–2020 with the paper “How Military Innovation Leads to Civil Market-ready Products: The Case Of Drones”\, and her presentation will be along the lines of: What was the paper about\, What happened to the paper (did it get published in the same/another version)\, What happened to you afterwards (What are you researching now). \nLearn more about Katrin \nParticipation: This is a free webinar open to all\, but registration is required. \nRegister HERE
URL:https://ecsb.org/event/ecsb-webinar-celebrating-40th-anniversary-of-rent-insights-from-rent-best-paper-winners-katrin-smolka/
LOCATION:Online
CATEGORIES:ECSB Event,Webinar
ATTACH;FMTTYPE=image/png:https://ecsb.org/wp-content/uploads/2026/02/ECSB-Webinar-060526_Katrin-Smolka.png
END:VEVENT
BEGIN:VEVENT
DTSTART;TZID=Europe/Helsinki:20260513T150000
DTEND;TZID=Europe/Helsinki:20260513T154500
DTSTAMP:20260424T034449
CREATED:20260204T102411Z
LAST-MODIFIED:20260204T102939Z
UID:15897-1778684400-1778687100@ecsb.org
SUMMARY:ECSB Webinar: AI in qualitative analysis with Martin Lackéus
DESCRIPTION:Martin Lackéus (Chalmers University of Technology) will share his experiences from using AI to analyze qualitative data. His statement “AI made my year” pretty much sums up his enthusiasm about using AI when analyzing. \nAbout Martin: https://www.chalmers.se/en/persons/lackeus/  \nPlease note! The event is open to ECSB members\, but registration is required. \nRegister HERE \nIf you do not have a valid membership\, please join at https://ecsb.org/join-ecsb/. \n 
URL:https://ecsb.org/event/ecsb-webinar-ai-in-qualitative-analysis-with-martin-lackeus/
LOCATION:Online
CATEGORIES:ECSB Event,Webinar
ATTACH;FMTTYPE=image/png:https://ecsb.org/wp-content/uploads/2026/02/ECSB-Webinar-130526_Martin-Lackeus.png
END:VEVENT
BEGIN:VEVENT
DTSTART;VALUE=DATE:20261118
DTEND;VALUE=DATE:20261121
DTSTAMP:20260424T034449
CREATED:20251218T201801Z
LAST-MODIFIED:20251222T085357Z
UID:15793-1794960000-1795219199@ecsb.org
SUMMARY:RENT XL
DESCRIPTION:ENTREPRENEURSHIP IN AND FOR FAST-CHANGING WORLDS: Making the Future with Resilience\, Impact\, and Fairness \nThis year’s theme highlights the dual responsibility of entrepreneurship: to navigate fast-changing worlds with resilience and foresight while contributing to the creation of fairer\, more sustainable and hopeful futures. \nWe seek to critically examine how entrepreneurial action can (re)produce these dynamic contexts\, the ethical and societal implications of such actions\, and how entrepreneurs can embrace their potential as agents of positive impact. \nThe submission deadline is 15 MAY 2026.
URL:https://ecsb.org/event/rent-xxxx/
LOCATION:Hilton Antwerp Old Town\, Groenplaats 32\, Antwerp\, Belgium
CATEGORIES:ECSB Event,RENT Conference
ATTACH;FMTTYPE=image/png:https://ecsb.org/wp-content/uploads/2025/12/RENT2026_800x400.png
END:VEVENT
END:VCALENDAR