BEGIN:VCALENDAR
VERSION:2.0
PRODID:-//European Council for Small Business and Entrepreneurship - ECPv6.15.15//NONSGML v1.0//EN
CALSCALE:GREGORIAN
METHOD:PUBLISH
X-ORIGINAL-URL:https://ecsb.org
X-WR-CALDESC:Events for European Council for Small Business and Entrepreneurship
REFRESH-INTERVAL;VALUE=DURATION:PT1H
X-Robots-Tag:noindex
X-PUBLISHED-TTL:PT1H
BEGIN:VTIMEZONE
TZID:Europe/Paris
BEGIN:DAYLIGHT
TZOFFSETFROM:+0100
TZOFFSETTO:+0200
TZNAME:CEST
DTSTART:20250330T010000
END:DAYLIGHT
BEGIN:STANDARD
TZOFFSETFROM:+0200
TZOFFSETTO:+0100
TZNAME:CET
DTSTART:20251026T010000
END:STANDARD
BEGIN:DAYLIGHT
TZOFFSETFROM:+0100
TZOFFSETTO:+0200
TZNAME:CEST
DTSTART:20260329T010000
END:DAYLIGHT
BEGIN:STANDARD
TZOFFSETFROM:+0200
TZOFFSETTO:+0100
TZNAME:CET
DTSTART:20261025T010000
END:STANDARD
BEGIN:DAYLIGHT
TZOFFSETFROM:+0100
TZOFFSETTO:+0200
TZNAME:CEST
DTSTART:20270328T010000
END:DAYLIGHT
BEGIN:STANDARD
TZOFFSETFROM:+0200
TZOFFSETTO:+0100
TZNAME:CET
DTSTART:20271031T010000
END:STANDARD
END:VTIMEZONE
BEGIN:VTIMEZONE
TZID:UTC
BEGIN:STANDARD
TZOFFSETFROM:+0000
TZOFFSETTO:+0000
TZNAME:UTC
DTSTART:20250101T000000
END:STANDARD
END:VTIMEZONE
BEGIN:VEVENT
DTSTART;TZID=Europe/Paris:20260304T150000
DTEND;TZID=Europe/Paris:20260304T154500
DTSTAMP:20260424T072316
CREATED:20260204T104349Z
LAST-MODIFIED:20260204T104349Z
UID:15909-1772636400-1772639100@ecsb.org
SUMMARY:ECSB Webinar: Social media for research impact with Marcel Bogers
DESCRIPTION:Marcel Bogers will provide a 20–30-minute intro to one of the frameworks in his newly published book ‘Social media for research impact’ followed by a practical exercise where the participants will try it out. \nRead more about the book: https://bit.ly/Social-Media-for-Research-Impact \nMore about Marcel: https://www.tue.nl/en/research/researchers/marcel-bogers/ \nPlease note! The event is open to ECSB members\, but registration is required. \nRegister HERE \nIf you do not have a valid membership\, please join at https://ecsb.org/join-ecsb/.
URL:https://ecsb.org/event/ecsb-webinar-social-media-for-research-impact-with-marcel-bogers/
LOCATION:Online
CATEGORIES:ECSB Event,Webinar
ATTACH;FMTTYPE=image/png:https://ecsb.org/wp-content/uploads/2026/02/ECSB-Webinar-040326_Marcel-Bogers.png
END:VEVENT
BEGIN:VEVENT
DTSTART;TZID=Europe/Paris:20260311T150000
DTEND;TZID=Europe/Paris:20260311T160000
DTSTAMP:20260424T072316
CREATED:20260204T104617Z
LAST-MODIFIED:20260204T104709Z
UID:15911-1773241200-1773244800@ecsb.org
SUMMARY:ECSB Webinar: How to organize 3E Conference
DESCRIPTION:Sebastian Planck (the organizer of 3E 2025 in Munich) and Michael Breum Ramsgaard (the organizer of 3E 2023 in Aarhus) will share their experiences from organizing the 3E Conference so that research groups who are thinking about applying know what they are getting themselves into. They will go through the process from applying to the finished conference as well as the organizing of a special issue in connection with the conference. There may also be some anecdotes and some behind the scenes insights. \nPlease note! The event is open to all\, but registration is required. \nRegister HERE
URL:https://ecsb.org/event/ecsb-webinar-how-to-organize-3e-conference/
LOCATION:Online
CATEGORIES:3E Conference,ECSB Event,Webinar
ATTACH;FMTTYPE=image/png:https://ecsb.org/wp-content/uploads/2026/02/ECSB-Webinar-110326_Ramsgaard-and-Planck.png
END:VEVENT
BEGIN:VEVENT
DTSTART;TZID=Europe/Paris:20260318T150000
DTEND;TZID=Europe/Paris:20260318T154500
DTSTAMP:20260424T072316
CREATED:20260204T105258Z
LAST-MODIFIED:20260204T105258Z
UID:15913-1773846000-1773848700@ecsb.org
SUMMARY:ECSB Webinar: Celebrating 40th Anniversary of RENT: Insights from RENT Best Paper Winners – Emilee Simmons
DESCRIPTION:This is a short webinar (45 minutes including Q&A and discussion) as part of the webinars with previous RENT award winners. In addition to taking a trip down memory lane and highlighting the 40th Anniversary of RENT\, it is primarily an opportunity for younger scholars to see examples of how people work with developing their papers and their careers. \nEmilee Simmons (Abertay University) won Mario Raffa Policy Paper Award 2022 for the paper “New thinking or the ‘emperor’s new clothes’?: A critique of entrepreneurial mindset and public policy”\, and the presentation will be along the lines of: What was the paper about\, What happened to the paper (did it get published in the same/another version)\, What happened to her afterwards (What is she researching now). \nLearn more about Emilee \nThis free event is open to all\, but registration is required. \nRegister HERE
URL:https://ecsb.org/event/ecsb-webinar-celebrating-40th-anniversary-of-rent-insights-from-rent-best-paper-winners-emilee-simmons/
LOCATION:Online
CATEGORIES:ECSB Event,Webinar
ATTACH;FMTTYPE=image/png:https://ecsb.org/wp-content/uploads/2026/01/ECSB-Webinar-180326_Emilee-Simmons.png
END:VEVENT
BEGIN:VEVENT
DTSTART;VALUE=DATE:20260319
DTEND;VALUE=DATE:20260321
DTSTAMP:20260424T072316
CREATED:20251215T160027Z
LAST-MODIFIED:20251215T160027Z
UID:15775-1773878400-1774051199@ecsb.org
SUMMARY:3rd Institutions and Entrepreneurship (InsEnt) SIG – ECSB Workshop
DESCRIPTION:On 19-20th March 2026\, the Sant’Anna School of Advanced Studies in Pisa will host the 3rd Institutions and Entrepreneurship (InsEnt) SIG-ECSB Workshop. We look forward to welcoming you to Pisa for a rich program of discussion\, collaboration\, and community building. You’ll find attached the agenda of the Workshop. \nParticipation in the 3rd Institutions and Entrepreneurship (InsEnt) SIG-ECSB Workshop is free\, but registration is mandatory and can be completed through this form. The deadline for registration is 20 February 2026. Participants are invited to submit a 2-page extended abstract during their registration (by 20 February 2026)\, also in this form. \nSee the Agenda
URL:https://ecsb.org/event/3rd-institutions-and-entrepreneurship-insent-sig-ecsb-workshop/
LOCATION:Scuola Superiore Sant’Anna\, Piazza Martiri della Libertà 33\, Pisa\, 56127\, Italy
CATEGORIES:ECSB Event,SIG event
ATTACH;FMTTYPE=image/png:https://ecsb.org/wp-content/uploads/2025/12/3rd-InsEnt-SIG-Workshop.png
END:VEVENT
END:VCALENDAR