BEGIN:VCALENDAR
VERSION:2.0
PRODID:-//European Council for Small Business and Entrepreneurship - ECPv6.15.15//NONSGML v1.0//EN
CALSCALE:GREGORIAN
METHOD:PUBLISH
X-WR-CALNAME:European Council for Small Business and Entrepreneurship
X-ORIGINAL-URL:https://ecsb.org
X-WR-CALDESC:Events for European Council for Small Business and Entrepreneurship
REFRESH-INTERVAL;VALUE=DURATION:PT1H
X-Robots-Tag:noindex
X-PUBLISHED-TTL:PT1H
BEGIN:VTIMEZONE
TZID:Europe/Paris
BEGIN:DAYLIGHT
TZOFFSETFROM:+0100
TZOFFSETTO:+0200
TZNAME:CEST
DTSTART:20240331T010000
END:DAYLIGHT
BEGIN:STANDARD
TZOFFSETFROM:+0200
TZOFFSETTO:+0100
TZNAME:CET
DTSTART:20241027T010000
END:STANDARD
BEGIN:DAYLIGHT
TZOFFSETFROM:+0100
TZOFFSETTO:+0200
TZNAME:CEST
DTSTART:20250330T010000
END:DAYLIGHT
BEGIN:STANDARD
TZOFFSETFROM:+0200
TZOFFSETTO:+0100
TZNAME:CET
DTSTART:20251026T010000
END:STANDARD
BEGIN:DAYLIGHT
TZOFFSETFROM:+0100
TZOFFSETTO:+0200
TZNAME:CEST
DTSTART:20260329T010000
END:DAYLIGHT
BEGIN:STANDARD
TZOFFSETFROM:+0200
TZOFFSETTO:+0100
TZNAME:CET
DTSTART:20261025T010000
END:STANDARD
END:VTIMEZONE
BEGIN:VEVENT
DTSTART;VALUE=DATE:20251119
DTEND;VALUE=DATE:20251122
DTSTAMP:20260424T142726
CREATED:20250203T150445Z
LAST-MODIFIED:20250819T065141Z
UID:15309-1763510400-1763769599@ecsb.org
SUMMARY:RENT 2025 Conference
DESCRIPTION:The 2025 Conference Theme is: “Responsible Entrepreneurship & Technology – Combining the local and the global” \nThe submission deadline is May 15\, 2025 \nConference Chairpersons: Chairs: Ruud Koopman\, Michel Ehrenhard\, Silvia Costa \n 
URL:https://ecsb.org/event/rent-2025-conference/
CATEGORIES:ECSB Event,RENT Conference
ATTACH;FMTTYPE=image/png:https://ecsb.org/wp-content/uploads/2025/02/RENT2025_800x400.png
END:VEVENT
BEGIN:VEVENT
DTSTART;TZID=Europe/Paris:20251119T123000
DTEND;TZID=Europe/Paris:20251119T170000
DTSTAMP:20260424T142726
CREATED:20250819T064057Z
LAST-MODIFIED:20250829T141941Z
UID:15598-1763555400-1763571600@ecsb.org
SUMMARY:PDWs at RENT 2025
DESCRIPTION:Professional Development Workshops on ECSB Pre-Conference Day of RENT 2025 on 19 November 2025 at 13:30–18:00 at Saxion University of Applied Sciences (address: M.H. Tromplaan 28\, 7513 AB Enschede) \nProfessional Development Workshops (PDWs) are workshops to share knowledge and expertise and foster practical\, professional and intellectual skills of participants. \nRENT XXXIX pre-conference day on 19 November 2025 will host four PDWs: \nPDW Programme on 19 November 2025: \nParallel Session 1 at 12:30-14:30 \n\n\n\na) Entrepreneurship for Desirable Futures: Bridging Entrepreneurship and Futures Studies\nRegister\n\n\nb) Unplanned Obsolescence: Teaching and Understanding Modern Entrepreneurship through Game-Based Learning\nRegister\n\n\n\n  \n14:30-15:00 Coffee break \nParallel Session 2 at 15:00-17:00 \n\n\n\na) The Art of Co-Authoring – Navigating Collaboration in Entrepreneurship Research\nRegister\n\n\nb)  Learning from Nature: Biomimicry\, Responsible and Regenerative Approaches to Entrepreneurship Education\nRegister\n\n\n\n  \nSee the PDW overviews HERE (pdf) \nParticipation \nParticipation in the PDWs is free\, but participants must be ECSB members or registered for the RENT conference to attend. Please note that you can only register for one PDW in each parallel session (a or b). \nRegister by Thursday 12 November 2025!
URL:https://ecsb.org/event/pdws-at-rent-2025/
LOCATION:ROC van Twente\, Gieterij 200\, Hengelo\, 7553 VZ\, Netherlands
CATEGORIES:ECSB Event,PDW,RENT Conference
ATTACH;FMTTYPE=image/png:https://ecsb.org/wp-content/uploads/2025/08/PDWs-at-RENT2025_.png
END:VEVENT
END:VCALENDAR