BEGIN:VCALENDAR
VERSION:2.0
PRODID:-//European Council for Small Business and Entrepreneurship - ECPv6.15.15//NONSGML v1.0//EN
CALSCALE:GREGORIAN
METHOD:PUBLISH
X-WR-CALNAME:European Council for Small Business and Entrepreneurship
X-ORIGINAL-URL:https://ecsb.org
X-WR-CALDESC:Events for European Council for Small Business and Entrepreneurship
REFRESH-INTERVAL;VALUE=DURATION:PT1H
X-Robots-Tag:noindex
X-PUBLISHED-TTL:PT1H
BEGIN:VTIMEZONE
TZID:Europe/Helsinki
BEGIN:DAYLIGHT
TZOFFSETFROM:+0200
TZOFFSETTO:+0300
TZNAME:EEST
DTSTART:20240331T010000
END:DAYLIGHT
BEGIN:STANDARD
TZOFFSETFROM:+0300
TZOFFSETTO:+0200
TZNAME:EET
DTSTART:20241027T010000
END:STANDARD
BEGIN:DAYLIGHT
TZOFFSETFROM:+0200
TZOFFSETTO:+0300
TZNAME:EEST
DTSTART:20250330T010000
END:DAYLIGHT
BEGIN:STANDARD
TZOFFSETFROM:+0300
TZOFFSETTO:+0200
TZNAME:EET
DTSTART:20251026T010000
END:STANDARD
BEGIN:DAYLIGHT
TZOFFSETFROM:+0200
TZOFFSETTO:+0300
TZNAME:EEST
DTSTART:20260329T010000
END:DAYLIGHT
BEGIN:STANDARD
TZOFFSETFROM:+0300
TZOFFSETTO:+0200
TZNAME:EET
DTSTART:20261025T010000
END:STANDARD
END:VTIMEZONE
BEGIN:VEVENT
DTSTART;TZID=Europe/Helsinki:20250423T140000
DTEND;TZID=Europe/Helsinki:20250423T163000
DTSTAMP:20260425T023624
CREATED:20250305T131655Z
LAST-MODIFIED:20250328T071355Z
UID:15334-1745416800-1745425800@ecsb.org
SUMMARY:4th Annual RENT Abstract Writing Workshop
DESCRIPTION:This interactive workshop taking place online on Wednesday 23 April 2025 at 14:00-16:30 CEST offers support on writing an abstract to RENT Conference to be organised in Enschede on 19-21 November 2025. \nAbout this event\nDo you want to submit to RENT in Enschede this year? And have you… \n\nalready planned to submit\, but need some feedback (especially if it is one of the first times that you submit to the RENT)?\nconsidered a submission\, but are not sure whether your work is a good fit for the RENT?\na first draft or sketch of your submission and want to further work on it with your peers?\n\nIf any of these conditions apply to you\, join us for this year’s Abstract Writing Workshop! Together\, we will meet on Wednesday 23 April 2025 at 14:00-16:30 CEST online via Zoom and first\, get some tips from experienced ECSB members to improve the chances of our submission. While this provides a good point to get started\, the majority of this workshop will be spent writing the abstract\, getting and giving feedback and jointly reflecting our writing process with support from experienced advisors. \nWith this interactive workshop\, we aim to contribute to high-quality submissions of extended abstracts for the RENT and\, from an individual participant’s perspective\, we will actually get (most of) the writing done. This workshop entails: \n\nExpert’s advice on abstract writing for the RENT\nWorking individually on your writing\nReflecting together in small groups\nGiving and receiving feedback from experienced advisors\nDiscuss challenges with experts and colleagues\n\nThis means that this is an actual workshop in which you will actually work on your own abstracts. To get the most out of this\, please prepare a draft version of your abstract beforehand. This can be a rough sketch in bullet points\, but bring along a version that you can further work on. \nSee the RENT 2025 Conference website:\nhttps://rent-conference.org/\nhttps://rent-conference.org/rent-2025/conference-call-preamble\nhttps://rent-conference.org/submission/submission-deadline-instructions \nNew optional writing session this year: Do you want to continue working on your submission and finalise your writing after receiving feedback? Then join us after the workshop for an hour (16.30-17.30) of focused writing time using the Pomodoro technique! This is optional for all workshop participants\, please indicate when registering if you would like to take advantage of this. \nLet’s get the abstract writing done together! \nOrganizers\nThis workshop is organized as a joint initiative from several ECSB country vice presidents\, represented by: \n\nSimon Schmidt (ECSB country VP for Germany)\nVerena Meyer (Germany)\nRenata Osowska (ECSB country VP for UK)\nPekka Stenholm (Finland)\n\nParticipation\nParticipation is free\, but a registration is required by 16 April 2025. The registered participants will receive a link to a brief survey\, providing us with some information to ensure efficient group work\, and a Zoom link to join the meeting. \n> Register: https://link.webropolsurveys.com/EP/B5E9D3938E2680CD \nContact person\nVerena Meyer (verena.meyer(at)leuphana.de) \nPS. RENT submission deadline is May 15\, 2025.
URL:https://ecsb.org/event/4th-annual-rent-abstract-writing-workshop/
LOCATION:Online
CATEGORIES:ECSB Event
ATTACH;FMTTYPE=image/png:https://ecsb.org/wp-content/uploads/2025/03/Abstract-writing-workshop-800-x-450.png
END:VEVENT
END:VCALENDAR