BEGIN:VCALENDAR
VERSION:2.0
PRODID:-//European Council for Small Business and Entrepreneurship - ECPv6.15.15//NONSGML v1.0//EN
CALSCALE:GREGORIAN
METHOD:PUBLISH
X-ORIGINAL-URL:https://ecsb.org
X-WR-CALDESC:Events for European Council for Small Business and Entrepreneurship
REFRESH-INTERVAL;VALUE=DURATION:PT1H
X-Robots-Tag:noindex
X-PUBLISHED-TTL:PT1H
BEGIN:VTIMEZONE
TZID:Europe/Helsinki
BEGIN:DAYLIGHT
TZOFFSETFROM:+0200
TZOFFSETTO:+0300
TZNAME:EEST
DTSTART:20190331T010000
END:DAYLIGHT
BEGIN:STANDARD
TZOFFSETFROM:+0300
TZOFFSETTO:+0200
TZNAME:EET
DTSTART:20191027T010000
END:STANDARD
BEGIN:DAYLIGHT
TZOFFSETFROM:+0200
TZOFFSETTO:+0300
TZNAME:EEST
DTSTART:20200329T010000
END:DAYLIGHT
BEGIN:STANDARD
TZOFFSETFROM:+0300
TZOFFSETTO:+0200
TZNAME:EET
DTSTART:20201025T010000
END:STANDARD
BEGIN:DAYLIGHT
TZOFFSETFROM:+0200
TZOFFSETTO:+0300
TZNAME:EEST
DTSTART:20210328T010000
END:DAYLIGHT
BEGIN:STANDARD
TZOFFSETFROM:+0300
TZOFFSETTO:+0200
TZNAME:EET
DTSTART:20211031T010000
END:STANDARD
BEGIN:DAYLIGHT
TZOFFSETFROM:+0200
TZOFFSETTO:+0300
TZNAME:EEST
DTSTART:20220327T010000
END:DAYLIGHT
BEGIN:STANDARD
TZOFFSETFROM:+0300
TZOFFSETTO:+0200
TZNAME:EET
DTSTART:20221030T010000
END:STANDARD
BEGIN:DAYLIGHT
TZOFFSETFROM:+0200
TZOFFSETTO:+0300
TZNAME:EEST
DTSTART:20230326T010000
END:DAYLIGHT
BEGIN:STANDARD
TZOFFSETFROM:+0300
TZOFFSETTO:+0200
TZNAME:EET
DTSTART:20231029T010000
END:STANDARD
BEGIN:DAYLIGHT
TZOFFSETFROM:+0200
TZOFFSETTO:+0300
TZNAME:EEST
DTSTART:20240331T010000
END:DAYLIGHT
BEGIN:STANDARD
TZOFFSETFROM:+0300
TZOFFSETTO:+0200
TZNAME:EET
DTSTART:20241027T010000
END:STANDARD
BEGIN:DAYLIGHT
TZOFFSETFROM:+0200
TZOFFSETTO:+0300
TZNAME:EEST
DTSTART:20250330T010000
END:DAYLIGHT
BEGIN:STANDARD
TZOFFSETFROM:+0300
TZOFFSETTO:+0200
TZNAME:EET
DTSTART:20251026T010000
END:STANDARD
BEGIN:DAYLIGHT
TZOFFSETFROM:+0200
TZOFFSETTO:+0300
TZNAME:EEST
DTSTART:20260329T010000
END:DAYLIGHT
BEGIN:STANDARD
TZOFFSETFROM:+0300
TZOFFSETTO:+0200
TZNAME:EET
DTSTART:20261025T010000
END:STANDARD
BEGIN:DAYLIGHT
TZOFFSETFROM:+0200
TZOFFSETTO:+0300
TZNAME:EEST
DTSTART:20270328T010000
END:DAYLIGHT
BEGIN:STANDARD
TZOFFSETFROM:+0300
TZOFFSETTO:+0200
TZNAME:EET
DTSTART:20271031T010000
END:STANDARD
END:VTIMEZONE
BEGIN:VTIMEZONE
TZID:Europe/Paris
BEGIN:DAYLIGHT
TZOFFSETFROM:+0100
TZOFFSETTO:+0200
TZNAME:CEST
DTSTART:20200329T010000
END:DAYLIGHT
BEGIN:STANDARD
TZOFFSETFROM:+0200
TZOFFSETTO:+0100
TZNAME:CET
DTSTART:20201025T010000
END:STANDARD
BEGIN:DAYLIGHT
TZOFFSETFROM:+0100
TZOFFSETTO:+0200
TZNAME:CEST
DTSTART:20210328T010000
END:DAYLIGHT
BEGIN:STANDARD
TZOFFSETFROM:+0200
TZOFFSETTO:+0100
TZNAME:CET
DTSTART:20211031T010000
END:STANDARD
BEGIN:DAYLIGHT
TZOFFSETFROM:+0100
TZOFFSETTO:+0200
TZNAME:CEST
DTSTART:20220327T010000
END:DAYLIGHT
BEGIN:STANDARD
TZOFFSETFROM:+0200
TZOFFSETTO:+0100
TZNAME:CET
DTSTART:20221030T010000
END:STANDARD
BEGIN:DAYLIGHT
TZOFFSETFROM:+0100
TZOFFSETTO:+0200
TZNAME:CEST
DTSTART:20230326T010000
END:DAYLIGHT
BEGIN:STANDARD
TZOFFSETFROM:+0200
TZOFFSETTO:+0100
TZNAME:CET
DTSTART:20231029T010000
END:STANDARD
BEGIN:DAYLIGHT
TZOFFSETFROM:+0100
TZOFFSETTO:+0200
TZNAME:CEST
DTSTART:20240331T010000
END:DAYLIGHT
BEGIN:STANDARD
TZOFFSETFROM:+0200
TZOFFSETTO:+0100
TZNAME:CET
DTSTART:20241027T010000
END:STANDARD
BEGIN:DAYLIGHT
TZOFFSETFROM:+0100
TZOFFSETTO:+0200
TZNAME:CEST
DTSTART:20250330T010000
END:DAYLIGHT
BEGIN:STANDARD
TZOFFSETFROM:+0200
TZOFFSETTO:+0100
TZNAME:CET
DTSTART:20251026T010000
END:STANDARD
BEGIN:DAYLIGHT
TZOFFSETFROM:+0100
TZOFFSETTO:+0200
TZNAME:CEST
DTSTART:20260329T010000
END:DAYLIGHT
BEGIN:STANDARD
TZOFFSETFROM:+0200
TZOFFSETTO:+0100
TZNAME:CET
DTSTART:20261025T010000
END:STANDARD
BEGIN:DAYLIGHT
TZOFFSETFROM:+0100
TZOFFSETTO:+0200
TZNAME:CEST
DTSTART:20270328T010000
END:DAYLIGHT
BEGIN:STANDARD
TZOFFSETFROM:+0200
TZOFFSETTO:+0100
TZNAME:CET
DTSTART:20271031T010000
END:STANDARD
END:VTIMEZONE
BEGIN:VTIMEZONE
TZID:UTC
BEGIN:STANDARD
TZOFFSETFROM:+0000
TZOFFSETTO:+0000
TZNAME:UTC
DTSTART:20200101T000000
END:STANDARD
END:VTIMEZONE
BEGIN:VEVENT
DTSTART;TZID=Europe/Helsinki:20260421T150000
DTEND;TZID=Europe/Helsinki:20260421T160000
DTSTAMP:20260424T091653
CREATED:20260204T105546Z
LAST-MODIFIED:20260204T105617Z
UID:15915-1776783600-1776787200@ecsb.org
SUMMARY:ECSB Webinar: The evolution and future challenges of entrepreneurship education as a scholarly field with Diamanto Politis
DESCRIPTION:As a warm-up for the 3E conference\, Diamanto Politis (Lund University and NTNU) will provide a webinar with the title: ”The evolution and future challenges of entrepreneurship education as a scholarly field”. \nLearn more about Diamanto \nPlease note! The event is open to ECSB members\, registration is required. \nRegister HERE \nIf you do not have a valid membership\, please join at https://ecsb.org/join-ecsb/.
URL:https://ecsb.org/event/ecsb-webinar-the-evolution-and-future-challenges-of-entrepreneurship-education-as-a-scholarly-field-with-diamanto-politis/
LOCATION:Online
CATEGORIES:3E Conference,Webinar
ATTACH;FMTTYPE=image/png:https://ecsb.org/wp-content/uploads/2026/02/ECSB-Webinar-210426_Diamanto-Politis.png
END:VEVENT
BEGIN:VEVENT
DTSTART;TZID=Europe/Paris:20260311T150000
DTEND;TZID=Europe/Paris:20260311T160000
DTSTAMP:20260424T091653
CREATED:20260204T104617Z
LAST-MODIFIED:20260204T104709Z
UID:15911-1773241200-1773244800@ecsb.org
SUMMARY:ECSB Webinar: How to organize 3E Conference
DESCRIPTION:Sebastian Planck (the organizer of 3E 2025 in Munich) and Michael Breum Ramsgaard (the organizer of 3E 2023 in Aarhus) will share their experiences from organizing the 3E Conference so that research groups who are thinking about applying know what they are getting themselves into. They will go through the process from applying to the finished conference as well as the organizing of a special issue in connection with the conference. There may also be some anecdotes and some behind the scenes insights. \nPlease note! The event is open to all\, but registration is required. \nRegister HERE
URL:https://ecsb.org/event/ecsb-webinar-how-to-organize-3e-conference/
LOCATION:Online
CATEGORIES:3E Conference,ECSB Event,Webinar
ATTACH;FMTTYPE=image/png:https://ecsb.org/wp-content/uploads/2026/02/ECSB-Webinar-110326_Ramsgaard-and-Planck.png
END:VEVENT
BEGIN:VEVENT
DTSTART;VALUE=DATE:20250521
DTEND;VALUE=DATE:20250524
DTSTAMP:20260424T091653
CREATED:20241029T141718Z
LAST-MODIFIED:20241030T145620Z
UID:14782-1747785600-1748044799@ecsb.org
SUMMARY:3E 2025 Conference
DESCRIPTION:We invite you to join the next 3E Conference in Munich on 21-23 May 2025 under the following theme: Responsible\, Systemic\, Democratic: New trajectories in entrepreneurship education \n\n\nIn line with transformations towards sustainable-entrepreneurial universities (Cai\, Ahmad 2022) Entrepreneurship Education (EE) sees itself radically changing and adapting to the new global\, environmental and institutional requirements of the 21st century. For 2025’s 3E conference\, we invite scholarly investigations into three dimensions of EE to lay foundations for future research and practice\, share best practices and spark critical debates. \n\nIn line with recent discussions of responsible entrepreneurship (Hägg et al. 2024)\, we want to better understand how EE construes responsibility. How may educators and institutions integrate responsibility into EE’s core rather than merely a side or after-effect? How does EE theoretically define and methodologically implement responsibility? What theories\, methods and best practices help to rigorously integrate responsibility within entrepreneurial education processes?\n\n\nHow can Entrepreneurship Education adapt to systemic perspectives to innovation\, value creation and learning? Systems Thinking offers new vantage points for holistic entrepreneurial processes\, encourages new ways of thinking and challenges learners to cope with complexity and ambiguity. Yet what specific value does a systems perspective offer to EE? What are teaching practices\, philosophies and designs that succeed in the development of systemic competencies? Systemic approaches often overwhelm learners and are in conflict with linear innovation processes. If assuming that Systems Thinking is integral to Social Entrepreneurship (Trivedi 2015)\, what is its role for ‘traditional’ entrepreneurship and education?\n\n\nWhile previous research has argued that ‘entrepreneurialism’ is something exceptional and inherent only in ‘entrepreneurs’\, more recent approaches have underlined a more ‘democratic’ understanding\, emphasizing that every student and learner has the capacity and potential to be and become more entrepreneurial (Block et al. 2023). We want to invite research that helps us better understand and execute such “wide approaches to EE” (Baggen et al. 2021) but also reflect on the opportunities and risks such approaches may bring about.\n\nThrough an innovative and non-traditional format\, the 3E Conference establishes a different paradigm for entrepreneurship conferences. It offers an exclusive and engaging opportunity for researchers\, educators\, and politicians to debate and exchange their experiences of the major challenges and advances in enterprise education with a special and unique focus on Europe. Unlike more traditional academic events\, the conference focuses on problems and questions rather than on solutions and presentations of research findings. The format is unplugged\, no power point presentations allowed\, round table discussions that participants have read beforehand. Further\, the keynote speakers are chosen from among the participants rather than being invited outsiders. \nWho should attend?\nPotential participants include entrepreneurship educators and researchers\, research-based educators from primary\, secondary\, and higher education institutions\, practitioners involved in entrepreneurship support programs including coaches\, trainers\, policy makers and program managers\, and special interest group representatives from local or international organisations. \nAbout the program and the venues\nThe 3E Conference program will include three interactive days\, mainly taking place around the campus of the Hochschule München and its Strascheg Center for Entrepreneurship\, which are located close to the city center of Munich. We will offer some pre- and post-events beside the main conference that will immerse you in the unique entrepreneurial ecosystem of Munich. There are many things to discover in Munich. The city offers a great variety of cultural activities like museums\, local pubs and calming walks in the English Garden or the Isar river to escape from the traffic in the city. So feel free to stay over the weekend! \n\n\n\n\n\n\n\n\n\nKey dates:\n\nSubmission Deadline for Abstracts: 1 December 2024\nNotification of Acceptance: 31 January 2025\nFinal Submission Deadline: 15 March 2025\nEarly-Bird Registration Deadline: 15 March 2025\nConference: 21-23 May 2025
URL:https://ecsb.org/event/3e-2025-conference/
LOCATION:HM Munich University of Applied Sciences Campus Lothstraße\, Lothstraße 35\, Munich\, 80335\, Germany
CATEGORIES:3E Conference,ECSB Event
ATTACH;FMTTYPE=image/jpeg:https://ecsb.org/wp-content/uploads/2024/10/3E2025-Cover-image-to-X-e1730210308650.jpg
END:VEVENT
BEGIN:VEVENT
DTSTART;VALUE=DATE:20240515
DTEND;VALUE=DATE:20240518
DTSTAMP:20260424T091653
CREATED:20230613T123500Z
LAST-MODIFIED:20230613T123500Z
UID:13759-1715731200-1715990399@ecsb.org
SUMMARY:3E 2024 Conference
DESCRIPTION:Through an innovative and non-traditional format\, the 3E Conference establishes a new paradigm for entrepreneurship conferences. It offers an inclusive setting to fully collaborate with researchers\, educators and policymakers to debate and exchange the best practices\, the major challenges and novel advances in entrepreneurship education with a special and unique focus on Europe. Unlike more traditional academic events\, this conference puts the spotlight in problems and questions; the format is ‘unplugged’ without power point presentations. Instead\, engaging round table discussions are held with participants who have read papers beforehand. Further\, the keynote speakers are chosen from among the best submission of the participants. \n\nConference theme: Entrepreneurship Education – a playground for impact \n\nOver the past years\, Entrepreneurship Education (EE) has increasingly become more mature in its theory and practice. Yet\, it has not lost its playfulness and its willingness to try out new things. We believe EE can and should be seen as a playground for educators\, scholars\, and students; and continue to invite innovative action and experimentation. At the same time\, this led to a variety of challenges and contexts for players to solve through creativity\, interaction and mutual learning. That is why this edition encourages the 3E community to present novel solutions to encourage tilting EE towards social development\, mental and physical wellbeing\, and sustainability. We need to promote innovation\, creativity as well as responsible risk-taking. And most importantly\, we need to think of what we want our students to learn\, what our students want to learn\, and how they best learn.  Therefore\, we welcome contributions that present\, explore and question the playfulness of EE in relation towards social and sustainable entrepreneurial initiatives. \nWho should attend?\nPotential participants include entrepreneurship education educators and researchers\, research-based educators from primary\, secondary\, and higher institutions\, practitioners involved in entrepreneurship support programs including trainers\, policy makers and program managers\, and special interest group representatives from local or international organisations. \nAbout the program and the venues\nThe 3E Conference program will include three interactive days in the city of Amsterdam\, mainly in the vicinity of the AUAS Amstel Campus. A program that will have several pre- and post-events including\, welcome reception on Wednesday 15th (location to be announced)\, PDW Day (AUAS Amstel Campus)\, main conference (AUAS Amstel Campus)\, gala dinner with entertainment (location to be announced). As a participant\, we welcome you to stay longer to enjoy the beautiful canals of the vibrant city of Amsterdam and its famous museums such as the Rijksmuseum\, Stedelijk Museum and Van Gogh Museum. \n\n\n\nImportant Dates\n\nSubmission Deadline for Abstracts: 1 December 2023\nNotification of Acceptance: 31 January 2024\nSubmission Deadline for Final Contributions: 15 March 2024\nEarly-Bird Registration Deadline: 15 March 2024\nConference: 15-17 May 2024
URL:https://ecsb.org/event/3e-2024-conference/
LOCATION:Amsterdam University of Applied Sciences\, Amstel Campus\, Rhijnspoorplein 1\, Amsterdam\, 1091 GC\, Netherlands
CATEGORIES:3E Conference
ATTACH;FMTTYPE=image/png:https://ecsb.org/wp-content/uploads/2023/06/3E2024-Twitter-banner_700x233.png
END:VEVENT
BEGIN:VEVENT
DTSTART;VALUE=DATE:20230510
DTEND;VALUE=DATE:20230513
DTSTAMP:20260424T091653
CREATED:20221114T213328Z
LAST-MODIFIED:20221114T213559Z
UID:12816-1683676800-1683935999@ecsb.org
SUMMARY:3E 2023 Conference
DESCRIPTION:Over the past decade\, the field of entrepreneurship education research has developed significantly. The theme for the first 3E – ECSB Entrepreneurship Education – Conference in Aarhus 2013 was “Rethinking Entrepreneurship Education\, Training and Policy: The questions we care about.” The ambition was to create a conference on entrepreneurship education that broadened the concepts of entrepreneurship and entrepreneurship education beyond the traditional venture creation and business school domains and to welcome scholars from education\, pedagogy\, and learning to integrate their education research with entrepreneurship. Since then\, the 3E conferences have brought together scholars and educators from a broad variety of educational institutions and disciplinary backgrounds\, and continuously serve as a central European platform for the exchange and creation of knowledge in entrepreneurship education. \nThrough an innovative and non-traditional format\, the 3E Conference establishes a different paradigm for entrepreneurship conferences. It offers an exclusive and engaging opportunity for researchers\, educators\, and politicians to debate and exchange their experiences of the major challenges and advances in enterprise education with a special and unique focus on Europe. Unlike more traditional academic events\, the conference focuses on problems and questions rather than on solutions and presentations of research findings. The format is unplugged\, no power point presentations allowed\, round table discussions that participants have read beforehand. Further\, the keynote speakers are chosen from among the participants rather than being invited outsiders. \nTHE CONFERENCE THEME FOR 2023: BACK TO THE FUTURE OF ENTREPRENEURSHIP EDUCATION \nIn 2023\, the 3E Conference celebrates 10-year anniversary and return to the city of Aarhus. The 2023 edition is hosted by Aarhus University and VIA University College in collaboration with the ECSB. \nOver the past decade\, the field of entrepreneurship education research has also grown significantly. But what have we learnt from the past decade about doing education-based research? And how can we use what we have learned to design and rethink entrepreneurship education for the future? \n\n\n\nKEY DATES\n\nAbstract Submission Deadline: 1 December 2022\nApplication 3E Doctoral Day: 1 December 2022\nNotification of Acceptance: 23 January 2023\nFull Paper Submission Deadline: 15 March 2023\n6-page proposal 3E Doctoral Day deadline: 15 March 2023\nEarly-Bird Registration Deadline: 15 March 2023\n3E Conference: 10–12 May 2023 (pre-event 9 May)\n\nVisit the conference website for more information.
URL:https://ecsb.org/event/3e-2023-conference/
LOCATION:Scandic Aarhus City\, Østergade 10\, Aarhus\, 8000\, Denmark
CATEGORIES:3E Conference
ATTACH;FMTTYPE=image/png:https://ecsb.org/wp-content/uploads/2022/11/3E-2023-Featured-image-website.png
END:VEVENT
BEGIN:VEVENT
DTSTART;VALUE=DATE:20220511
DTEND;VALUE=DATE:20220514
DTSTAMP:20260424T091653
CREATED:20220308T153752Z
LAST-MODIFIED:20220308T165757Z
UID:12304-1652227200-1652486399@ecsb.org
SUMMARY:3E 2022 Conference
DESCRIPTION:Through an innovative and non-traditional format\, the 3E Conference establishes a new paradigm for entrepreneurship conferences. It offers an exclusive and engaging opportunity for researchers\, educators and politicians to debate and exchange their experiences of the major challenges and advances in enterprise education with a special and unique focus on Europe. Unlike more traditional academic events\, the conference will focus on problems and questions rather than on ready-made solutions and presentations of research findings. There are no keynote speakers to tell us the way but we will pave it ourselves in a joint effort! \nConference theme: Entrepreneurship Education Excellence: from Outcome Assessment to Individual and Societal Impacts  \n\nKey Dates\n\nAbstract Submission Deadline (extended): 15 December 2021\nNotification of Acceptance: 21 January 2022\nConference Registration Opens: February 2022\nFull Paper Submission Deadline: 15 March 2022\nEarly-Bird Registration Deadline: 15 March 2022\nConference: 11-13 May 2022
URL:https://ecsb.org/event/3e-2022/
LOCATION:Burgundy School of Business\, 29 Rue Sambin\, Dijon\, 21000\, France
CATEGORIES:3E Conference,ECSB Event
ATTACH;FMTTYPE=image/jpeg:https://ecsb.org/wp-content/uploads/2022/03/Rooftops-wordpress-header.jpg
END:VEVENT
BEGIN:VEVENT
DTSTART;VALUE=DATE:20210505
DTEND;VALUE=DATE:20210508
DTSTAMP:20260424T091653
CREATED:20190618T205629Z
LAST-MODIFIED:20200608T195138Z
UID:9112-1620172800-1620431999@ecsb.org
SUMMARY:3E Conference 2021 in Trondheim
DESCRIPTION:Through an innovative and non-traditional format\, the 3E Conference establishes a new paradigm for entrepreneurship conferences. It offers an exclusive and engaging opportunity for researchers\, educators and politicians to debate and exchange their experiences of the major challenges and advances in enterprise education with a special and unique focus on Europe. Unlike more traditional academic events\, the conference will focus on problems and questions rather than on ready-made solutions and presentations of research findings. There are no keynote speakers to tell us the way but we will pave it ourselves in a joint effort! \n\n\n\nConference theme: Developing entrepreneurial mindsets through education \n\n\n\nVISIT 3E TRONDHEIM
URL:https://ecsb.org/event/3e-conference-2021-in-trondheim/
LOCATION:DIGS\, Krambugata 2\, Trondheim\, 7011\, Norway
CATEGORIES:3E Conference
ATTACH;FMTTYPE=image/jpeg:https://ecsb.org/wp-content/uploads/2019/06/ECSB-Trondheim.jpg
END:VEVENT
BEGIN:VEVENT
DTSTART;TZID=Europe/Paris:20210128T160000
DTEND;TZID=Europe/Paris:20210128T173000
DTSTAMP:20260424T091653
CREATED:20201217T220307Z
LAST-MODIFIED:20201217T220539Z
UID:10910-1611849600-1611855000@ecsb.org
SUMMARY:EE Explore on Unsettling Entrepreneurship Education
DESCRIPTION:EE Explore is a series of online events in entrepreneurship education organized jointly with ECSB and Engage\, the host of 3E2021 Conference. \nThis event will build on a recent Special Issue in Entrepreneurship Education & Pedagogy (EE&P)\, vol. 3\, issue 3. A link to the SI https://journals.sagepub.com/doi/full/10.1177/2515127420921480 \nIn this Special Issue\, authors reflect on and resist the tendency to see students as consumers with the ‘right’ to take part in entrepreneurship education and to effectively shape their enterprising selves. The necessity to keep on reflecting on unsettling entrepreneurship education became apparent also through the ongoing present-day Covid-19 crisis\, which suddenly changed the pedagogical scene and put forward the need to move our pedagogical aspirations of unsettling to a digital platform and online teaching. To frame the need for continuous reflection\, we suggest that this crisis can teach us something as valuable as ‘standing still’\, and can help us to reconsider what kind of entrepreneurial society we build together with our students via entrepreneurship education. Perhaps there is a need not to unsettle but rather ‘resettle’ society\, and entrepreneurship education\, into a new direction? \nThe facilitators will be Karin Berglund\, Ulla Hytti & Karen Verduijn.  \nRegistration deadline: Monday 25th January 2021 (by 11.30 pm CET) \nRegistration link: https://www.eventbrite.fi/e/ee-explore-unsettling-entrepreneurship-education-registration-132944439397 \nWhen registering\, please indicate what you would like to bring and/or take from the workshop\, thank you.
URL:https://ecsb.org/event/ee-explore-on-unsettling-entrepreneurship-education/
CATEGORIES:3E Conference,ECSB Event
ATTACH;FMTTYPE=image/png:https://ecsb.org/wp-content/uploads/2020/09/EE_Explore_Header.png
END:VEVENT
BEGIN:VEVENT
DTSTART;TZID=Europe/Helsinki:20200924T150000
DTEND;TZID=Europe/Helsinki:20200924T170000
DTSTAMP:20260424T091653
CREATED:20200701T183609Z
LAST-MODIFIED:20200701T183609Z
UID:10657-1600959600-1600966800@ecsb.org
SUMMARY:EE Explore - Developing entrepreneurial mindsets through education
DESCRIPTION:ECSB and Engage – Centre for Engaged Education through Entrepreneurship launch together a series of online EE Explore events. The first event will be organized around the theme “Developing entrepreneurial mindsets through education” and will take place on the 24th of September at 3 pm (CET). This will be a digital roundtable discussion based on the abstracts submitted to the 3E 2020 where invited participants have pitch their ideas (3 minutes). The pitches will be followed by a moderated dialogue on how  to move the teaching and research within this theme forward. The discussion will be moderated by professor Andrew Corbett and professor Jeffery S. McMullen. Corbett holds a position as professor at Babson College and is a visiting professor at Nord University Business School\, Bodø. McMullen is a professor in strategic entrepreneurship at the Kelley School of Business at Indiana University.
URL:https://ecsb.org/event/ee-explore-developing-entrepreneurial-mindsets-through-education/
CATEGORIES:3E Conference,Co-Branded Events
END:VEVENT
END:VCALENDAR